BEGIN:VCALENDAR
VERSION:2.0
PRODID:-//wp-events-plugin.com//7.2.3.1//EN
TZID:Asia/Tokyo
X-WR-TIMEZONE:Asia/Tokyo
BEGIN:VEVENT
UID:44@bustle.jp
DTSTART;TZID=Asia/Tokyo:20260529T200000
DTEND;TZID=Asia/Tokyo:20260529T220000
DTSTAMP:20260320T165001Z
URL:https://bustle.jp/events/%e5%80%8b%e4%ba%ba%e5%8f%82%e5%8a%a0%e5%9e%8b
 %e3%82%b5%e3%83%83%e3%82%ab%e3%83%bc-7/
SUMMARY:個人参加型サッカー
DESCRIPTION:\n\nご覧いただきありがとうございます。\n\n楽
 しくボールを蹴ることができる環境づくりを目指して
 います。\n\nぜひ、ご参加ください\n\n\n\n【詳細】\n\n会
 場：生野人工芝グラウンド(生野朝鮮初級学校)\n\n時間
 ：20：00〜22：00\n\n参加費：学生は800円\n\n社会人1000円\n\
 n備考：スパイク使用可、使用ボール5号球\n\n\n\n&nbsp\;\n\
 n&nbsp\;
ATTACH;FMTTYPE=image/jpeg:https://bustle.jp/wp-content/uploads/2025/05/Bus
 tle-Football.png
LOCATION:生野朝鮮初級学校\, 3-14-16\, 大阪市生野区巽西\, 
 大阪府\, 5440012\, 日本
X-APPLE-STRUCTURED-LOCATION;VALUE=URI;X-ADDRESS=3-14-16\, 大阪市生野
 区巽西\, 大阪府\, 5440012\, 日本;X-APPLE-RADIUS=100;X-TITLE=生野
 朝鮮初級学校:geo:0,0
END:VEVENT
BEGIN:VTIMEZONE
TZID:Asia/Tokyo
X-LIC-LOCATION:Asia/Tokyo
BEGIN:STANDARD
DTSTART:20250529T200000
TZOFFSETFROM:+0900
TZOFFSETTO:+0900
TZNAME:JST
END:STANDARD
END:VTIMEZONE
END:VCALENDAR